BEGIN:VCALENDAR
VERSION:2.0
PRODID:-//Parys Info &amp; Tourism - ECPv6.15.18//NONSGML v1.0//EN
CALSCALE:GREGORIAN
METHOD:PUBLISH
X-WR-CALNAME:Parys Info &amp; Tourism
X-ORIGINAL-URL:https://parysinfoandtourism.co.za
X-WR-CALDESC:Events for Parys Info &amp; Tourism
REFRESH-INTERVAL;VALUE=DURATION:PT1H
X-Robots-Tag:noindex
X-PUBLISHED-TTL:PT1H
BEGIN:VTIMEZONE
TZID:Africa/Johannesburg
BEGIN:STANDARD
TZOFFSETFROM:+0200
TZOFFSETTO:+0200
TZNAME:SAST
DTSTART:20250101T000000
END:STANDARD
END:VTIMEZONE
BEGIN:VEVENT
DTSTART;TZID=Africa/Johannesburg:20260704T090000
DTEND;TZID=Africa/Johannesburg:20260704T150000
DTSTAMP:20260420T170711
CREATED:20251017T064200Z
LAST-MODIFIED:20251017T064214Z
UID:3858-1783155600-1783177200@parysinfoandtourism.co.za
SUMMARY:Hartelus Mark
DESCRIPTION:
URL:https://parysinfoandtourism.co.za/event/hartelus-m-ark/
LOCATION:Egweni River Lodge\, 2 Van Coller Street\, Parys\, Free State\, 9585\, South Africa
ATTACH;FMTTYPE=image/jpeg:https://parysinfoandtourism.co.za/wp-content/uploads/hartelus.jpg
END:VEVENT
BEGIN:VEVENT
DTSTART;TZID=Africa/Johannesburg:20260719T123000
DTEND;TZID=Africa/Johannesburg:20260719T133000
DTSTAMP:20260420T170711
CREATED:20260216T084148Z
LAST-MODIFIED:20260216T084148Z
UID:4434-1784464200-1784467800@parysinfoandtourism.co.za
SUMMARY:Klassieke Konsert
DESCRIPTION:
URL:https://parysinfoandtourism.co.za/event/klassieke-konsert/
ATTACH;FMTTYPE=image/jpeg:https://parysinfoandtourism.co.za/wp-content/uploads/19-July.jpeg
END:VEVENT
BEGIN:VEVENT
DTSTART;TZID=Africa/Johannesburg:20260727T080000
DTEND;TZID=Africa/Johannesburg:20260731T170000
DTSTAMP:20260420T170711
CREATED:20260226T083442Z
LAST-MODIFIED:20260226T083442Z
UID:4530-1785139200-1785517200@parysinfoandtourism.co.za
SUMMARY:Winter-herstelwegbreek
DESCRIPTION:
URL:https://parysinfoandtourism.co.za/event/winter-herstelwegbreek/
LOCATION:Gentle Breeze Retreat
ATTACH;FMTTYPE=image/jpeg:https://parysinfoandtourism.co.za/wp-content/uploads/Retreat.jpeg
END:VEVENT
BEGIN:VEVENT
DTSTART;TZID=Africa/Johannesburg:20260731T080000
DTEND;TZID=Africa/Johannesburg:20260802T170000
DTSTAMP:20260420T170711
CREATED:20260410T082430Z
LAST-MODIFIED:20260410T082430Z
UID:5879-1785484800-1785690000@parysinfoandtourism.co.za
SUMMARY:Vosrite Adventures
DESCRIPTION:
URL:https://parysinfoandtourism.co.za/event/vosrite-adventures/
LOCATION:Vosrite Adventures
ATTACH;FMTTYPE=image/jpeg:https://parysinfoandtourism.co.za/wp-content/uploads/vorsite-.jpeg
END:VEVENT
END:VCALENDAR