BEGIN:VCALENDAR
VERSION:2.0
PRODID:-//Parys Info &amp; Tourism - ECPv6.15.18//NONSGML v1.0//EN
CALSCALE:GREGORIAN
METHOD:PUBLISH
X-ORIGINAL-URL:https://parysinfoandtourism.co.za
X-WR-CALDESC:Events for Parys Info &amp; Tourism
REFRESH-INTERVAL;VALUE=DURATION:PT1H
X-Robots-Tag:noindex
X-PUBLISHED-TTL:PT1H
BEGIN:VTIMEZONE
TZID:Africa/Johannesburg
BEGIN:STANDARD
TZOFFSETFROM:+0200
TZOFFSETTO:+0200
TZNAME:SAST
DTSTART:20250101T000000
END:STANDARD
END:VTIMEZONE
BEGIN:VEVENT
DTSTART;TZID=Africa/Johannesburg:20260904T080000
DTEND;TZID=Africa/Johannesburg:20260905T170000
DTSTAMP:20260421T024230
CREATED:20260410T114939Z
LAST-MODIFIED:20260410T115325Z
UID:5898-1788508800-1788627600@parysinfoandtourism.co.za
SUMMARY:Exclusive Parrot Breeders Retreat
DESCRIPTION:
URL:https://parysinfoandtourism.co.za/event/exclusive-parrot-breeders-retreat/
LOCATION:Umfula River Resort
ATTACH;FMTTYPE=image/jpeg:https://parysinfoandtourism.co.za/wp-content/uploads/pasa.jpeg
END:VEVENT
BEGIN:VEVENT
DTSTART;TZID=Africa/Johannesburg:20260906T123000
DTEND;TZID=Africa/Johannesburg:20260906T133000
DTSTAMP:20260421T024230
CREATED:20260131T162635Z
LAST-MODIFIED:20260216T082859Z
UID:4333-1788697800-1788701400@parysinfoandtourism.co.za
SUMMARY:Derde Kwartaal Studente Konsert
DESCRIPTION:
URL:https://parysinfoandtourism.co.za/event/derde-kwartaal-studente-consort/
LOCATION:NG Kerk Parys Suid
ATTACH;FMTTYPE=image/jpeg:https://parysinfoandtourism.co.za/wp-content/uploads/Derde.jpeg
END:VEVENT
BEGIN:VEVENT
DTSTART;TZID=Africa/Johannesburg:20261003T090000
DTEND;TZID=Africa/Johannesburg:20261003T150000
DTSTAMP:20260421T024230
CREATED:20251017T064855Z
LAST-MODIFIED:20251017T064855Z
UID:3863-1791018000-1791039600@parysinfoandtourism.co.za
SUMMARY:Hartelus Mark
DESCRIPTION:
URL:https://parysinfoandtourism.co.za/event/hartelus-mark-14/
LOCATION:Egweni River Lodge\, 2 Van Coller Street\, Parys\, Free State\, 9585\, South Africa
ATTACH;FMTTYPE=image/jpeg:https://parysinfoandtourism.co.za/wp-content/uploads/hartelus.jpg
END:VEVENT
BEGIN:VEVENT
DTSTART;TZID=Africa/Johannesburg:20261004T123000
DTEND;TZID=Africa/Johannesburg:20261004T133000
DTSTAMP:20260421T024230
CREATED:20260204T130043Z
LAST-MODIFIED:20260216T083139Z
UID:4366-1791117000-1791120600@parysinfoandtourism.co.za
SUMMARY:Huiskonsert - Stéfan Louw
DESCRIPTION:
URL:https://parysinfoandtourism.co.za/event/huiskonsert-stefan-louw/
LOCATION:12B Derdelaan\, Parys
ATTACH;FMTTYPE=image/jpeg:https://parysinfoandtourism.co.za/wp-content/uploads/huiskonsert.jpeg
END:VEVENT
BEGIN:VEVENT
DTSTART;TZID=Africa/Johannesburg:20261012T080000
DTEND;TZID=Africa/Johannesburg:20261016T170000
DTSTAMP:20260421T024230
CREATED:20260226T083957Z
LAST-MODIFIED:20260304T131540Z
UID:4532-1791792000-1792170000@parysinfoandtourism.co.za
SUMMARY:Lente-ontwakingswegbreek
DESCRIPTION:
URL:https://parysinfoandtourism.co.za/event/lente-ontwakingswegbreek/
LOCATION:Gentle Breeze Retreat
ATTACH;FMTTYPE=image/jpeg:https://parysinfoandtourism.co.za/wp-content/uploads/Retreat.jpeg
END:VEVENT
BEGIN:VEVENT
DTSTART;TZID=Africa/Johannesburg:20261107T090000
DTEND;TZID=Africa/Johannesburg:20261107T150000
DTSTAMP:20260421T024230
CREATED:20251017T065058Z
LAST-MODIFIED:20251017T065058Z
UID:3867-1794042000-1794063600@parysinfoandtourism.co.za
SUMMARY:Hartelus Mark
DESCRIPTION:
URL:https://parysinfoandtourism.co.za/event/hartelus-mark-15/
LOCATION:Egweni River Lodge\, 2 Van Coller Street\, Parys\, Free State\, 9585\, South Africa
ATTACH;FMTTYPE=image/jpeg:https://parysinfoandtourism.co.za/wp-content/uploads/hartelus.jpg
END:VEVENT
BEGIN:VEVENT
DTSTART;TZID=Africa/Johannesburg:20261127T190000
DTEND;TZID=Africa/Johannesburg:20261127T210000
DTSTAMP:20260421T024230
CREATED:20260131T161842Z
LAST-MODIFIED:20260216T083003Z
UID:4329-1795806000-1795813200@parysinfoandtourism.co.za
SUMMARY:Jaarlikse Gala Konsert
DESCRIPTION:
URL:https://parysinfoandtourism.co.za/event/jaarlikse-gala-konsert/
LOCATION:NG Kerk Parys Suid
ATTACH;FMTTYPE=image/jpeg:https://parysinfoandtourism.co.za/wp-content/uploads/Jaar.jpeg
END:VEVENT
BEGIN:VEVENT
DTSTART;TZID=Africa/Johannesburg:20261129T090000
DTEND;TZID=Africa/Johannesburg:20261129T110000
DTSTAMP:20260421T024230
CREATED:20260217T124354Z
LAST-MODIFIED:20260217T124414Z
UID:4466-1795942800-1795950000@parysinfoandtourism.co.za
SUMMARY:Kers Sangdiens
DESCRIPTION:
URL:https://parysinfoandtourism.co.za/event/kers-sanguines/
LOCATION:NG Kerk Parys Suid
ATTACH;FMTTYPE=image/jpeg:https://parysinfoandtourism.co.za/wp-content/uploads/kers.jpeg
END:VEVENT
BEGIN:VEVENT
DTSTART;TZID=Africa/Johannesburg:20261205T090000
DTEND;TZID=Africa/Johannesburg:20261205T150000
DTSTAMP:20260421T024230
CREATED:20251017T065313Z
LAST-MODIFIED:20260409T131551Z
UID:3869-1796461200-1796482800@parysinfoandtourism.co.za
SUMMARY:Hartelus Mark
DESCRIPTION:
URL:https://parysinfoandtourism.co.za/event/hartelus-mark-16/
LOCATION:Egweni River Lodge\, 2 Van Coller Street\, Parys\, Free State\, 9585\, South Africa
ATTACH;FMTTYPE=image/jpeg:https://parysinfoandtourism.co.za/wp-content/uploads/download-4.jpg
END:VEVENT
BEGIN:VEVENT
DTSTART;TZID=Africa/Johannesburg:20261221T180000
DTEND;TZID=Africa/Johannesburg:20261221T193000
DTSTAMP:20260421T024230
CREATED:20260217T130024Z
LAST-MODIFIED:20260217T130024Z
UID:4470-1797876000-1797881400@parysinfoandtourism.co.za
SUMMARY:Kersliedere by Kerslig
DESCRIPTION:
URL:https://parysinfoandtourism.co.za/event/kersliedere-by-kerslig/
LOCATION:NG Kerk Parys Suid
ATTACH;FMTTYPE=image/jpeg:https://parysinfoandtourism.co.za/wp-content/uploads/kersliedere.jpeg
END:VEVENT
END:VCALENDAR