BEGIN:VCALENDAR
VERSION:2.0
PRODID:-//Parys Info &amp; Tourism - ECPv6.15.18//NONSGML v1.0//EN
CALSCALE:GREGORIAN
METHOD:PUBLISH
X-WR-CALNAME:Parys Info &amp; Tourism
X-ORIGINAL-URL:https://parysinfoandtourism.co.za
X-WR-CALDESC:Events for Parys Info &amp; Tourism
REFRESH-INTERVAL;VALUE=DURATION:PT1H
X-Robots-Tag:noindex
X-PUBLISHED-TTL:PT1H
BEGIN:VTIMEZONE
TZID:Africa/Johannesburg
BEGIN:STANDARD
TZOFFSETFROM:+0200
TZOFFSETTO:+0200
TZNAME:SAST
DTSTART:20250101T000000
END:STANDARD
END:VTIMEZONE
BEGIN:VEVENT
DTSTART;TZID=Africa/Johannesburg:20260614T080000
DTEND;TZID=Africa/Johannesburg:20260614T170000
DTSTAMP:20260421T010108
CREATED:20260130T083803Z
LAST-MODIFIED:20260130T083803Z
UID:4275-1781424000-1781456400@parysinfoandtourism.co.za
SUMMARY:Gravelicious Crater Cruise
DESCRIPTION:
URL:https://parysinfoandtourism.co.za/event/gravelicious-crater-cruise/
LOCATION:Koedoeslaagte Trail Park
ATTACH;FMTTYPE=image/jpeg:https://parysinfoandtourism.co.za/wp-content/uploads/Crater.jpeg
END:VEVENT
BEGIN:VEVENT
DTSTART;TZID=Africa/Johannesburg:20260606T180000
DTEND;TZID=Africa/Johannesburg:20260606T233000
DTSTAMP:20260421T010108
CREATED:20260119T134125Z
LAST-MODIFIED:20260119T134253Z
UID:4210-1780768800-1780788600@parysinfoandtourism.co.za
SUMMARY:Elandre
DESCRIPTION:
URL:https://parysinfoandtourism.co.za/event/elandre/
LOCATION:Casa Cara\, S1052\, Farm Waarom\, parys\, Free State\, 9585\, South Africa
ATTACH;FMTTYPE=image/png:https://parysinfoandtourism.co.za/wp-content/uploads/Casa-.png
END:VEVENT
BEGIN:VEVENT
DTSTART;TZID=Africa/Johannesburg:20260606T090000
DTEND;TZID=Africa/Johannesburg:20260606T150000
DTSTAMP:20260421T010108
CREATED:20251017T064005Z
LAST-MODIFIED:20260407T131934Z
UID:3855-1780736400-1780758000@parysinfoandtourism.co.za
SUMMARY:Hartelus Mark
DESCRIPTION:
URL:https://parysinfoandtourism.co.za/event/hartelus-mark-12/
LOCATION:Egweni River Lodge\, 2 Van Coller Street\, Parys\, Free State\, 9585\, South Africa
ATTACH;FMTTYPE=image/jpeg:https://parysinfoandtourism.co.za/wp-content/uploads/HARTELUS-MAY.jpeg
END:VEVENT
BEGIN:VEVENT
DTSTART;TZID=Africa/Johannesburg:20260606T080000
DTEND;TZID=Africa/Johannesburg:20260606T170000
DTSTAMP:20260421T010108
CREATED:20260410T080110Z
LAST-MODIFIED:20260410T080110Z
UID:5860-1780732800-1780765200@parysinfoandtourism.co.za
SUMMARY:Gin Tasting
DESCRIPTION:
URL:https://parysinfoandtourism.co.za/event/gin-tasting/
LOCATION:Pont de Val
ATTACH;FMTTYPE=image/jpeg:https://parysinfoandtourism.co.za/wp-content/uploads/Barre.jpeg
END:VEVENT
BEGIN:VEVENT
DTSTART;TZID=Africa/Johannesburg:20260531T123000
DTEND;TZID=Africa/Johannesburg:20260531T133000
DTSTAMP:20260421T010108
CREATED:20260131T163350Z
LAST-MODIFIED:20260216T082809Z
UID:4338-1780230600-1780234200@parysinfoandtourism.co.za
SUMMARY:Tweede Kwartaal Studente Konsert
DESCRIPTION:
URL:https://parysinfoandtourism.co.za/event/tweede-kwartaal-studente-konsert/
LOCATION:NG Kerk Parys Suid
ATTACH;FMTTYPE=image/jpeg:https://parysinfoandtourism.co.za/wp-content/uploads/Tweede.jpeg
END:VEVENT
BEGIN:VEVENT
DTSTART;TZID=Africa/Johannesburg:20260530T120000
DTEND;TZID=Africa/Johannesburg:20260530T170000
DTSTAMP:20260421T010108
CREATED:20260410T114626Z
LAST-MODIFIED:20260410T114626Z
UID:5895-1780142400-1780160400@parysinfoandtourism.co.za
SUMMARY:The Vaal Wine Expo 2026
DESCRIPTION:
URL:https://parysinfoandtourism.co.za/event/the-vaal-wine-expo-2026/
LOCATION:Pont de Val
ATTACH;FMTTYPE=image/jpeg:https://parysinfoandtourism.co.za/wp-content/uploads/vaal.jpeg
END:VEVENT
BEGIN:VEVENT
DTSTART;TZID=Africa/Johannesburg:20260529T080000
DTEND;TZID=Africa/Johannesburg:20260531T170000
DTSTAMP:20260421T010108
CREATED:20260415T080841Z
LAST-MODIFIED:20260415T080917Z
UID:5947-1780041600-1780246800@parysinfoandtourism.co.za
SUMMARY:Afridome Musiekfees
DESCRIPTION:
URL:https://parysinfoandtourism.co.za/event/afridome-musiekfees/
LOCATION:Afridome parys\, Afridome Parys\, Parys\, Free State\, 9585\, South Africa
ATTACH;FMTTYPE=image/jpeg:https://parysinfoandtourism.co.za/wp-content/uploads/0232baec-fa92-474f-9c75-ee88c6f5aa18.jpg
END:VEVENT
BEGIN:VEVENT
DTSTART;TZID=Africa/Johannesburg:20260524T080000
DTEND;TZID=Africa/Johannesburg:20260526T170000
DTSTAMP:20260421T010108
CREATED:20260410T124133Z
LAST-MODIFIED:20260410T124133Z
UID:5919-1779609600-1779814800@parysinfoandtourism.co.za
SUMMARY:Wellness Camp For Mother's Day Celebration
DESCRIPTION:
URL:https://parysinfoandtourism.co.za/event/wellness-camp-for-mothers-day-celebration/
LOCATION:ElizaMa Beauty Spa
ATTACH;FMTTYPE=image/jpeg:https://parysinfoandtourism.co.za/wp-content/uploads/well.jpeg
END:VEVENT
BEGIN:VEVENT
DTSTART;TZID=Africa/Johannesburg:20260523T180000
DTEND;TZID=Africa/Johannesburg:20260523T233000
DTSTAMP:20260421T010108
CREATED:20260120T123058Z
LAST-MODIFIED:20260120T123058Z
UID:4214-1779559200-1779579000@parysinfoandtourism.co.za
SUMMARY:Appel
DESCRIPTION:
URL:https://parysinfoandtourism.co.za/event/appel/
LOCATION:Casa Cara Resort
ATTACH;FMTTYPE=image/jpeg:https://parysinfoandtourism.co.za/wp-content/uploads/Appel.jpeg
END:VEVENT
BEGIN:VEVENT
DTSTART;TZID=Africa/Johannesburg:20260522T180000
DTEND;TZID=Africa/Johannesburg:20260522T230000
DTSTAMP:20260421T010108
CREATED:20260420T041351Z
LAST-MODIFIED:20260420T041351Z
UID:6233-1779472800-1779490800@parysinfoandtourism.co.za
SUMMARY:Rikus van der Vlies
DESCRIPTION:
URL:https://parysinfoandtourism.co.za/event/rikus-van-der-vlies/
LOCATION:Kaalvoet Kafee
ATTACH;FMTTYPE=image/jpeg:https://parysinfoandtourism.co.za/wp-content/uploads/33971ff1-a7ba-4acb-9bb4-8c058dcbaa3d.jpg
END:VEVENT
BEGIN:VEVENT
DTSTART;TZID=Africa/Johannesburg:20260516T153000
DTEND;TZID=Africa/Johannesburg:20260516T213000
DTSTAMP:20260421T010108
CREATED:20260409T072911Z
LAST-MODIFIED:20260409T072911Z
UID:5727-1778945400-1778967000@parysinfoandtourism.co.za
SUMMARY:Mei en alles daarna
DESCRIPTION:
URL:https://parysinfoandtourism.co.za/event/mei-en-alles-daarna/
LOCATION:Kaalvoet Kafee
ATTACH;FMTTYPE=image/jpeg:https://parysinfoandtourism.co.za/wp-content/uploads/mei.jpeg
END:VEVENT
BEGIN:VEVENT
DTSTART;TZID=Africa/Johannesburg:20260516T080000
DTEND;TZID=Africa/Johannesburg:20260517T170000
DTSTAMP:20260421T010108
CREATED:20260410T081643Z
LAST-MODIFIED:20260410T081643Z
UID:5871-1778918400-1779037200@parysinfoandtourism.co.za
SUMMARY:Crater Traverse
DESCRIPTION:
URL:https://parysinfoandtourism.co.za/event/crater-traverse/
LOCATION:Koedoeslaagte Trail Park
ATTACH;FMTTYPE=image/jpeg:https://parysinfoandtourism.co.za/wp-content/uploads/Crater-1.jpeg
END:VEVENT
BEGIN:VEVENT
DTSTART;TZID=Africa/Johannesburg:20260516T080000
DTEND;TZID=Africa/Johannesburg:20260516T170000
DTSTAMP:20260421T010108
CREATED:20260410T120416Z
LAST-MODIFIED:20260410T120416Z
UID:5905-1778918400-1778950800@parysinfoandtourism.co.za
SUMMARY:Parys Adventure Weekend
DESCRIPTION:
URL:https://parysinfoandtourism.co.za/event/parys-adventure-weekend/
LOCATION:Stonehenge River Lodge\, Stonehenge
ATTACH;FMTTYPE=image/jpeg:https://parysinfoandtourism.co.za/wp-content/uploads/parys-1.jpeg
END:VEVENT
BEGIN:VEVENT
DTSTART;TZID=Africa/Johannesburg:20260515T080000
DTEND;TZID=Africa/Johannesburg:20260517T170000
DTSTAMP:20260421T010108
CREATED:20260410T122803Z
LAST-MODIFIED:20260410T122803Z
UID:5915-1778832000-1779037200@parysinfoandtourism.co.za
SUMMARY:Huweliks Kamp
DESCRIPTION:
URL:https://parysinfoandtourism.co.za/event/huweliks-kamp/
LOCATION:Vintage Yard Wedding Venue
ATTACH;FMTTYPE=image/jpeg:https://parysinfoandtourism.co.za/wp-content/uploads/huweliks-.jpeg
END:VEVENT
BEGIN:VEVENT
DTSTART;TZID=Africa/Johannesburg:20260510T080000
DTEND;TZID=Africa/Johannesburg:20260510T170000
DTSTAMP:20260421T010108
CREATED:20260410T072709Z
LAST-MODIFIED:20260410T072709Z
UID:5854-1778400000-1778432400@parysinfoandtourism.co.za
SUMMARY:Mother's Day Lunch
DESCRIPTION:
URL:https://parysinfoandtourism.co.za/event/mothers-day-lunch/
LOCATION:Stonehenge River Lodge\, Stonehenge
ATTACH;FMTTYPE=image/jpeg:https://parysinfoandtourism.co.za/wp-content/uploads/mother.jpeg
END:VEVENT
BEGIN:VEVENT
DTSTART;TZID=Africa/Johannesburg:20260509T190000
DTEND;TZID=Africa/Johannesburg:20260509T230000
DTSTAMP:20260421T010108
CREATED:20260410T115219Z
LAST-MODIFIED:20260410T115219Z
UID:5900-1778353200-1778367600@parysinfoandtourism.co.za
SUMMARY:Scallywag Live
DESCRIPTION:
URL:https://parysinfoandtourism.co.za/event/scallywag-live/
LOCATION:De Vette Mossel\, Parys
ATTACH;FMTTYPE=image/jpeg:https://parysinfoandtourism.co.za/wp-content/uploads/scally.jpeg
END:VEVENT
BEGIN:VEVENT
DTSTART;TZID=Africa/Johannesburg:20260509T090000
DTEND;TZID=Africa/Johannesburg:20260509T170000
DTSTAMP:20260421T010108
CREATED:20260402T083616Z
LAST-MODIFIED:20260402T083616Z
UID:5514-1778317200-1778346000@parysinfoandtourism.co.za
SUMMARY:Feesdag
DESCRIPTION:
URL:https://parysinfoandtourism.co.za/event/feesdag/
LOCATION:Umfula River Resort
ATTACH;FMTTYPE=image/jpeg:https://parysinfoandtourism.co.za/wp-content/uploads/feesdag.jpeg
END:VEVENT
BEGIN:VEVENT
DTSTART;TZID=Africa/Johannesburg:20260508T080000
DTEND;TZID=Africa/Johannesburg:20260511T170000
DTSTAMP:20260421T010108
CREATED:20260410T120746Z
LAST-MODIFIED:20260410T120746Z
UID:5908-1778227200-1778518800@parysinfoandtourism.co.za
SUMMARY:Mother's Day Safari Inspired Celebrations
DESCRIPTION:
URL:https://parysinfoandtourism.co.za/event/mothers-day-safari-inspired-celebrations/
LOCATION:Thwane Bush Camp
ATTACH;FMTTYPE=image/jpeg:https://parysinfoandtourism.co.za/wp-content/uploads/safari.jpeg
END:VEVENT
BEGIN:VEVENT
DTSTART;VALUE=DATE:20260508
DTEND;VALUE=DATE:20260509
DTSTAMP:20260421T010108
CREATED:20260410T084941Z
LAST-MODIFIED:20260410T084941Z
UID:5889-1778198400-1778284799@parysinfoandtourism.co.za
SUMMARY:Muse and Masterpiece
DESCRIPTION:
URL:https://parysinfoandtourism.co.za/event/muse-and-masterpiece/
LOCATION:The Garden Boutique Eatery
ATTACH;FMTTYPE=image/webp:https://parysinfoandtourism.co.za/wp-content/uploads/b78ad8_af194c78c161444fbe49c0a920faffb4mv2.webp
END:VEVENT
BEGIN:VEVENT
DTSTART;TZID=Africa/Johannesburg:20260502T120000
DTEND;TZID=Africa/Johannesburg:20260502T170000
DTSTAMP:20260421T010108
CREATED:20260420T040931Z
LAST-MODIFIED:20260420T040931Z
UID:6229-1777723200-1777741200@parysinfoandtourism.co.za
SUMMARY:Herfs Solos en Duette
DESCRIPTION:
URL:https://parysinfoandtourism.co.za/event/herfs-solos-en-duette/
LOCATION:Kaalvoet Kafee
ATTACH;FMTTYPE=image/jpeg:https://parysinfoandtourism.co.za/wp-content/uploads/41ddc1ad-bde9-499d-a1ca-999b62d5130b.jpg
END:VEVENT
BEGIN:VEVENT
DTSTART;TZID=Africa/Johannesburg:20260502T090000
DTEND;TZID=Africa/Johannesburg:20260502T150000
DTSTAMP:20260421T010108
CREATED:20251017T063759Z
LAST-MODIFIED:20260410T072327Z
UID:3853-1777712400-1777734000@parysinfoandtourism.co.za
SUMMARY:Hartelus Mark
DESCRIPTION:
URL:https://parysinfoandtourism.co.za/event/hartelus-mark-11/
LOCATION:Egweni River Lodge\, 2 Van Coller Street\, Parys\, Free State\, 9585\, South Africa
ATTACH;FMTTYPE=image/jpeg:https://parysinfoandtourism.co.za/wp-content/uploads/download-4.jpg
END:VEVENT
BEGIN:VEVENT
DTSTART;TZID=Africa/Johannesburg:20260501T170000
DTEND;TZID=Africa/Johannesburg:20260501T210000
DTSTAMP:20260421T010108
CREATED:20260410T124739Z
LAST-MODIFIED:20260410T124754Z
UID:5924-1777654800-1777669200@parysinfoandtourism.co.za
SUMMARY:Nicholis Louw
DESCRIPTION:
URL:https://parysinfoandtourism.co.za/event/nicholas-louw/
LOCATION:Bosboer Restaurant & Kroeg
ATTACH;FMTTYPE=image/jpeg:https://parysinfoandtourism.co.za/wp-content/uploads/nicholis.jpeg
END:VEVENT
BEGIN:VEVENT
DTSTART;TZID=Africa/Johannesburg:20260501T100000
DTEND;TZID=Africa/Johannesburg:20260501T170000
DTSTAMP:20260421T010108
CREATED:20260130T134341Z
LAST-MODIFIED:20260130T134341Z
UID:4279-1777629600-1777654800@parysinfoandtourism.co.za
SUMMARY:Vino's De Parys Wine Tasting
DESCRIPTION:
URL:https://parysinfoandtourism.co.za/event/vinos-de-parys-wine-tasting/
LOCATION:O’s Restaurant
ATTACH;FMTTYPE=image/jpeg:https://parysinfoandtourism.co.za/wp-content/uploads/Vino.jpeg
END:VEVENT
BEGIN:VEVENT
DTSTART;TZID=Africa/Johannesburg:20260426T113000
DTEND;TZID=Africa/Johannesburg:20260426T170000
DTSTAMP:20260421T010108
CREATED:20260410T122152Z
LAST-MODIFIED:20260410T122152Z
UID:5912-1777203000-1777222800@parysinfoandtourism.co.za
SUMMARY:Sip & Paint Buddies
DESCRIPTION:
URL:https://parysinfoandtourism.co.za/event/sip-paint-buddies/
LOCATION:The Garden Boutique Eatery
ATTACH;FMTTYPE=image/jpeg:https://parysinfoandtourism.co.za/wp-content/uploads/sip.jpeg
END:VEVENT
BEGIN:VEVENT
DTSTART;TZID=Africa/Johannesburg:20260425T100000
DTEND;TZID=Africa/Johannesburg:20260425T140000
DTSTAMP:20260421T010108
CREATED:20260410T073002Z
LAST-MODIFIED:20260410T073002Z
UID:5857-1777111200-1777125600@parysinfoandtourism.co.za
SUMMARY:Parys Info Market
DESCRIPTION:
URL:https://parysinfoandtourism.co.za/event/parys-info-market/
LOCATION:85 Breē Str
ATTACH;FMTTYPE=image/jpeg:https://parysinfoandtourism.co.za/wp-content/uploads/info-3.jpeg
END:VEVENT
BEGIN:VEVENT
DTSTART;TZID=Africa/Johannesburg:20260424T170000
DTEND;TZID=Africa/Johannesburg:20260424T210000
DTSTAMP:20260421T010108
CREATED:20260410T072001Z
LAST-MODIFIED:20260420T130859Z
UID:5847-1777050000-1777064400@parysinfoandtourism.co.za
SUMMARY:Piece of Parys Night Market
DESCRIPTION:
URL:https://parysinfoandtourism.co.za/event/piece-of-parys/
LOCATION:Cherry on Top
ATTACH;FMTTYPE=image/jpeg:https://parysinfoandtourism.co.za/wp-content/uploads/piece-1.jpeg
END:VEVENT
BEGIN:VEVENT
DTSTART;TZID=Africa/Johannesburg:20260422T080000
DTEND;TZID=Africa/Johannesburg:20260422T170000
DTSTAMP:20260421T010108
CREATED:20260223T115511Z
LAST-MODIFIED:20260226T073138Z
UID:4493-1776844800-1776877200@parysinfoandtourism.co.za
SUMMARY:Fezile Dabi X-Country Running
DESCRIPTION:
URL:https://parysinfoandtourism.co.za/event/fizzle-dabi-x-country-running/
ATTACH;FMTTYPE=image/jpeg:https://parysinfoandtourism.co.za/wp-content/uploads/Fezile-.jpeg
END:VEVENT
BEGIN:VEVENT
DTSTART;TZID=Africa/Johannesburg:20260420T080000
DTEND;TZID=Africa/Johannesburg:20260423T170000
DTSTAMP:20260421T010108
CREATED:20260410T083110Z
LAST-MODIFIED:20260412T080146Z
UID:5885-1776672000-1776963600@parysinfoandtourism.co.za
SUMMARY:Otters Haunt Eco Retreat
DESCRIPTION:
URL:https://parysinfoandtourism.co.za/event/otters-haunt-eco-retreat/
LOCATION:Kopjeskraal Road
ATTACH;FMTTYPE=image/jpeg:https://parysinfoandtourism.co.za/wp-content/uploads/671658284_1447733794063867_2560195843555522028_n.jpg
END:VEVENT
BEGIN:VEVENT
DTSTART;TZID=Africa/Johannesburg:20260418T110000
DTEND;TZID=Africa/Johannesburg:20260418T130000
DTSTAMP:20260421T010108
CREATED:20260411T080257Z
LAST-MODIFIED:20260411T080257Z
UID:5931-1776510000-1776517200@parysinfoandtourism.co.za
SUMMARY:Ladies Brunch
DESCRIPTION:
URL:https://parysinfoandtourism.co.za/event/ladies-brunch/
LOCATION:60 Bree Street\, 6 Bree Street\, Parys\, 9585\, South Africa
ATTACH;FMTTYPE=image/jpeg:https://parysinfoandtourism.co.za/wp-content/uploads/9506b337-bad7-4768-a0d8-d9404d675017.jpg
END:VEVENT
BEGIN:VEVENT
DTSTART;TZID=Africa/Johannesburg:20260418T080000
DTEND;TZID=Africa/Johannesburg:20260419T170000
DTSTAMP:20260421T010108
CREATED:20260409T071931Z
LAST-MODIFIED:20260409T072424Z
UID:5722-1776499200-1776618000@parysinfoandtourism.co.za
SUMMARY:Dome Bioblitz!
DESCRIPTION:
URL:https://parysinfoandtourism.co.za/event/dome-bioblitz/
LOCATION:Vredefort Dome
ATTACH;FMTTYPE=image/jpeg:https://parysinfoandtourism.co.za/wp-content/uploads/dome-.jpeg
END:VEVENT
END:VCALENDAR