BEGIN:VCALENDAR
VERSION:2.0
PRODID:-//Parys Info &amp; Tourism - ECPv6.15.18//NONSGML v1.0//EN
CALSCALE:GREGORIAN
METHOD:PUBLISH
X-WR-CALNAME:Parys Info &amp; Tourism
X-ORIGINAL-URL:https://parysinfoandtourism.co.za
X-WR-CALDESC:Events for Parys Info &amp; Tourism
REFRESH-INTERVAL;VALUE=DURATION:PT1H
X-Robots-Tag:noindex
X-PUBLISHED-TTL:PT1H
BEGIN:VTIMEZONE
TZID:Africa/Johannesburg
BEGIN:STANDARD
TZOFFSETFROM:+0200
TZOFFSETTO:+0200
TZNAME:SAST
DTSTART:20250101T000000
END:STANDARD
END:VTIMEZONE
BEGIN:VEVENT
DTSTART;TZID=Africa/Johannesburg:20260731T080000
DTEND;TZID=Africa/Johannesburg:20260802T170000
DTSTAMP:20260420T182832
CREATED:20260410T082430Z
LAST-MODIFIED:20260410T082430Z
UID:5879-1785484800-1785690000@parysinfoandtourism.co.za
SUMMARY:Vosrite Adventures
DESCRIPTION:
URL:https://parysinfoandtourism.co.za/event/vosrite-adventures/
LOCATION:Vosrite Adventures
ATTACH;FMTTYPE=image/jpeg:https://parysinfoandtourism.co.za/wp-content/uploads/vorsite-.jpeg
END:VEVENT
END:VCALENDAR