BEGIN:VCALENDAR
VERSION:2.0
PRODID:-//Parys Info &amp; Tourism - ECPv6.15.18//NONSGML v1.0//EN
CALSCALE:GREGORIAN
METHOD:PUBLISH
X-ORIGINAL-URL:https://parysinfoandtourism.co.za
X-WR-CALDESC:Events for Parys Info &amp; Tourism
REFRESH-INTERVAL;VALUE=DURATION:PT1H
X-Robots-Tag:noindex
X-PUBLISHED-TTL:PT1H
BEGIN:VTIMEZONE
TZID:Africa/Johannesburg
BEGIN:STANDARD
TZOFFSETFROM:+0200
TZOFFSETTO:+0200
TZNAME:SAST
DTSTART:20250101T000000
END:STANDARD
END:VTIMEZONE
BEGIN:VEVENT
DTSTART;TZID=Africa/Johannesburg:20260502T090000
DTEND;TZID=Africa/Johannesburg:20260502T150000
DTSTAMP:20260420T140407
CREATED:20251017T063759Z
LAST-MODIFIED:20260410T072327Z
UID:3853-1777712400-1777734000@parysinfoandtourism.co.za
SUMMARY:Hartelus Mark
DESCRIPTION:
URL:https://parysinfoandtourism.co.za/event/hartelus-mark-11/
LOCATION:Egweni River Lodge\, 2 Van Coller Street\, Parys\, Free State\, 9585\, South Africa
ATTACH;FMTTYPE=image/jpeg:https://parysinfoandtourism.co.za/wp-content/uploads/download-4.jpg
END:VEVENT
BEGIN:VEVENT
DTSTART;TZID=Africa/Johannesburg:20260502T120000
DTEND;TZID=Africa/Johannesburg:20260502T170000
DTSTAMP:20260420T140407
CREATED:20260420T040931Z
LAST-MODIFIED:20260420T040931Z
UID:6229-1777723200-1777741200@parysinfoandtourism.co.za
SUMMARY:Herfs Solos en Duette
DESCRIPTION:
URL:https://parysinfoandtourism.co.za/event/herfs-solos-en-duette/
LOCATION:Kaalvoet Kafee
ATTACH;FMTTYPE=image/jpeg:https://parysinfoandtourism.co.za/wp-content/uploads/41ddc1ad-bde9-499d-a1ca-999b62d5130b.jpg
END:VEVENT
END:VCALENDAR